BEGIN:VCALENDAR
VERSION:2.0
PRODID:-//John English Music - ECPv6.15.20//NONSGML v1.0//EN
CALSCALE:GREGORIAN
METHOD:PUBLISH
X-WR-CALNAME:John English Music
X-ORIGINAL-URL:https://johnenglishmusic.com
X-WR-CALDESC:Events for John English Music
REFRESH-INTERVAL;VALUE=DURATION:PT1H
X-Robots-Tag:noindex
X-PUBLISHED-TTL:PT1H
BEGIN:VTIMEZONE
TZID:UTC
BEGIN:STANDARD
TZOFFSETFROM:+0000
TZOFFSETTO:+0000
TZNAME:UTC
DTSTART:20220101T000000
END:STANDARD
END:VTIMEZONE
BEGIN:VEVENT
DTSTART;TZID=UTC:20230902T180000
DTEND;TZID=UTC:20230902T200000
DTSTAMP:20260421T132046
CREATED:20230722T005514Z
LAST-MODIFIED:20230923T041106Z
UID:328-1693677600-1693684800@johnenglishmusic.com
SUMMARY:Pecado Bueno Fremont Sept 2
DESCRIPTION:Bruce Barnard Quartet w/Jim Paul \nPecado Bueno\nMexican Cuisine \n4307 Fremont Ave N\nSeattle\, WA 98103\n+1 (206) 457-8837\npecadobueno.com
URL:https://johnenglishmusic.com/event/pecado-bueno-fremont-sept-2/
LOCATION:Pecado Bueno Fremont\, 4307 Fremont Ave N\, Seattle\, WA\, 98103\, United States
CATEGORIES:Pecado Beuno Fremont
END:VEVENT
BEGIN:VEVENT
DTSTART;TZID=UTC:20230827T180000
DTEND;TZID=UTC:20230827T200000
DTSTAMP:20260421T132046
CREATED:20230722T005319Z
LAST-MODIFIED:20230722T005319Z
UID:326-1693159200-1693166400@johnenglishmusic.com
SUMMARY:Pecado Bueno Fremont - Aug 27
DESCRIPTION:John English Shapeshifters \nPecado Bueno\nMexican Cuisine \n4307 Fremont Ave N\nSeattle\, WA 98103\n+1 (206) 457-8837
URL:https://johnenglishmusic.com/event/pecado-bueno-fremont-aug-27/
LOCATION:Pecado Bueno Fremont\, 4307 Fremont Ave N\, Seattle\, WA\, 98103\, United States
CATEGORIES:Pecado Beuno Fremont
END:VEVENT
BEGIN:VEVENT
DTSTART;TZID=UTC:20230812T180000
DTEND;TZID=UTC:20230812T200000
DTSTAMP:20260421T132046
CREATED:20230722T004132Z
LAST-MODIFIED:20230722T004132Z
UID:318-1691863200-1691870400@johnenglishmusic.com
SUMMARY:Pecado Bueno- Fremont - Aug 12
DESCRIPTION:John English Shapeshifters \nPecado Bueno\nMexican Cuisine \n4307 Fremont Ave N\nSeattle\, WA 98103\n+1 (206) 457-8837
URL:https://johnenglishmusic.com/event/pecado-bueno-fremont-aug-12/
LOCATION:Pecado Bueno Fremont\, 4307 Fremont Ave N\, Seattle\, WA\, 98103\, United States
CATEGORIES:Pecado Beuno Fremont
END:VEVENT
BEGIN:VEVENT
DTSTART;TZID=UTC:20230730T180000
DTEND;TZID=UTC:20230730T193000
DTSTAMP:20260421T132046
CREATED:20230722T002758Z
LAST-MODIFIED:20230722T002758Z
UID:312-1690740000-1690745400@johnenglishmusic.com
SUMMARY:Pecado Bueno Fremont- Jul 30
DESCRIPTION:Pecado Bueno Fremont -John English Shapeshifters \nPecado Bueno\nMexican Cuisine\n2356 Eastlake Ave E\,\nSeattle\, WA 98102\n206.687.7423
URL:https://johnenglishmusic.com/event/pecado-bueno-fremont-jul-30/
LOCATION:Pecado Bueno Fremont\, 4307 Fremont Ave N\, Seattle\, WA\, 98103\, United States
CATEGORIES:Pecado Beuno Fremont
END:VEVENT
BEGIN:VEVENT
DTSTART;TZID=UTC:20230729T180000
DTEND;TZID=UTC:20230729T200000
DTSTAMP:20260421T132046
CREATED:20230722T001709Z
LAST-MODIFIED:20230722T001709Z
UID:310-1690653600-1690660800@johnenglishmusic.com
SUMMARY:Pecado Bueno Fremont - Jul 29
DESCRIPTION:Pecado Bueno Fremont -John English Shapeshifters \nPecado Bueno\nMexican Cuisine\n2356 Eastlake Ave E\,\nSeattle\, WA 98102\n206.687.7423
URL:https://johnenglishmusic.com/event/pecado-bueno-fremont-jul-29/
LOCATION:Pecado Bueno Fremont\, 4307 Fremont Ave N\, Seattle\, WA\, 98103\, United States
CATEGORIES:Pecado Beuno Fremont
END:VEVENT
END:VCALENDAR